BEGIN:VCALENDAR
VERSION:2.0
PRODID:-//MOFCCLA - ECPv6.15.18//NONSGML v1.0//EN
CALSCALE:GREGORIAN
METHOD:PUBLISH
X-WR-CALNAME:MOFCCLA
X-ORIGINAL-URL:https://missourifccla.org
X-WR-CALDESC:Events for MOFCCLA
REFRESH-INTERVAL;VALUE=DURATION:PT1H
X-Robots-Tag:noindex
X-PUBLISHED-TTL:PT1H
BEGIN:VTIMEZONE
TZID:America/Chicago
BEGIN:DAYLIGHT
TZOFFSETFROM:-0600
TZOFFSETTO:-0500
TZNAME:CDT
DTSTART:20240310T080000
END:DAYLIGHT
BEGIN:STANDARD
TZOFFSETFROM:-0500
TZOFFSETTO:-0600
TZNAME:CST
DTSTART:20241103T070000
END:STANDARD
BEGIN:DAYLIGHT
TZOFFSETFROM:-0600
TZOFFSETTO:-0500
TZNAME:CDT
DTSTART:20250309T080000
END:DAYLIGHT
BEGIN:STANDARD
TZOFFSETFROM:-0500
TZOFFSETTO:-0600
TZNAME:CST
DTSTART:20251102T070000
END:STANDARD
BEGIN:DAYLIGHT
TZOFFSETFROM:-0600
TZOFFSETTO:-0500
TZNAME:CDT
DTSTART:20260308T080000
END:DAYLIGHT
BEGIN:STANDARD
TZOFFSETFROM:-0500
TZOFFSETTO:-0600
TZNAME:CST
DTSTART:20261101T070000
END:STANDARD
END:VTIMEZONE
BEGIN:VEVENT
DTSTART;TZID=America/Chicago:20251102T120000
DTEND;TZID=America/Chicago:20251103T130000
DTSTAMP:20260420T051503
CREATED:20250616T185820Z
LAST-MODIFIED:20250616T185820Z
UID:10000055-1762084800-1762174800@missourifccla.org
SUMMARY:Fall Leadership Conference
DESCRIPTION:
URL:https://missourifccla.org/event/fall-leadership-conference-2/
LOCATION:Union Station\, St. Louis\, 1820 Market St.\, St Louis\, MO\, 63103\, United States
CATEGORIES:Conferences
ORGANIZER;CN="Missouri FCCLA":MAILTO:Ashley.Witte@dese.mo.gov
END:VEVENT
END:VCALENDAR