BEGIN:VCALENDAR
VERSION:2.0
PRODID:-//MOFCCLA - ECPv6.15.18//NONSGML v1.0//EN
CALSCALE:GREGORIAN
METHOD:PUBLISH
X-WR-CALNAME:MOFCCLA
X-ORIGINAL-URL:https://missourifccla.org
X-WR-CALDESC:Events for MOFCCLA
REFRESH-INTERVAL;VALUE=DURATION:PT1H
X-Robots-Tag:noindex
X-PUBLISHED-TTL:PT1H
BEGIN:VTIMEZONE
TZID:America/Chicago
BEGIN:DAYLIGHT
TZOFFSETFROM:-0600
TZOFFSETTO:-0500
TZNAME:CDT
DTSTART:20250309T080000
END:DAYLIGHT
BEGIN:STANDARD
TZOFFSETFROM:-0500
TZOFFSETTO:-0600
TZNAME:CST
DTSTART:20251102T070000
END:STANDARD
BEGIN:DAYLIGHT
TZOFFSETFROM:-0600
TZOFFSETTO:-0500
TZNAME:CDT
DTSTART:20260308T080000
END:DAYLIGHT
BEGIN:STANDARD
TZOFFSETFROM:-0500
TZOFFSETTO:-0600
TZNAME:CST
DTSTART:20261101T070000
END:STANDARD
BEGIN:DAYLIGHT
TZOFFSETFROM:-0600
TZOFFSETTO:-0500
TZNAME:CDT
DTSTART:20270314T080000
END:DAYLIGHT
BEGIN:STANDARD
TZOFFSETFROM:-0500
TZOFFSETTO:-0600
TZNAME:CST
DTSTART:20271107T070000
END:STANDARD
END:VTIMEZONE
BEGIN:VEVENT
DTSTART;VALUE=DATE:20260420
DTEND;VALUE=DATE:20260422
DTSTAMP:20260422T051941
CREATED:20250620T004425Z
LAST-MODIFIED:20250620T004425Z
UID:10000085-1776643200-1776815999@missourifccla.org
SUMMARY:2026-27 SEC Spring Planning Meeting
DESCRIPTION:
URL:https://missourifccla.org/event/2026-27-sec-spring-planning-meeting/
LOCATION:Jefferson City\, MO
ORGANIZER;CN="Missouri FCCLA":MAILTO:Ashley.Witte@dese.mo.gov
END:VEVENT
BEGIN:VEVENT
DTSTART;VALUE=DATE:20260421
DTEND;VALUE=DATE:20260423
DTSTAMP:20260422T051941
CREATED:20250620T004609Z
LAST-MODIFIED:20250620T004609Z
UID:10000086-1776729600-1776902399@missourifccla.org
SUMMARY:Legislative Shadowing
DESCRIPTION:The Legislative Shadowing program offers members in their junior and senior years of high school who have an interest in government\, public policy\, and laws and their relation to families\, careers\, and communities. Selected participants are paired with a Missouri representative or senator\, spending the day fully immersed in the Missouri legislative process.
URL:https://missourifccla.org/event/legislative-shadowing/
LOCATION:Jefferson City\, MO
ORGANIZER;CN="Missouri FCCLA":MAILTO:Ashley.Witte@dese.mo.gov
END:VEVENT
END:VCALENDAR